BEGIN:VCALENDAR
VERSION:2.0
PRODID:-//Columbia Girls Fastpitch - ECPv6.15.13.1//NONSGML v1.0//EN
CALSCALE:GREGORIAN
METHOD:PUBLISH
X-ORIGINAL-URL:https://columbiagirlsfastpitch.com
X-WR-CALDESC:Events for Columbia Girls Fastpitch
REFRESH-INTERVAL;VALUE=DURATION:PT1H
X-Robots-Tag:noindex
X-PUBLISHED-TTL:PT1H
BEGIN:VTIMEZONE
TZID:America/Chicago
BEGIN:DAYLIGHT
TZOFFSETFROM:-0600
TZOFFSETTO:-0500
TZNAME:CDT
DTSTART:20150308T080000
END:DAYLIGHT
BEGIN:STANDARD
TZOFFSETFROM:-0500
TZOFFSETTO:-0600
TZNAME:CST
DTSTART:20151101T070000
END:STANDARD
BEGIN:DAYLIGHT
TZOFFSETFROM:-0600
TZOFFSETTO:-0500
TZNAME:CDT
DTSTART:20160313T080000
END:DAYLIGHT
BEGIN:STANDARD
TZOFFSETFROM:-0500
TZOFFSETTO:-0600
TZNAME:CST
DTSTART:20161106T070000
END:STANDARD
BEGIN:DAYLIGHT
TZOFFSETFROM:-0600
TZOFFSETTO:-0500
TZNAME:CDT
DTSTART:20170312T080000
END:DAYLIGHT
BEGIN:STANDARD
TZOFFSETFROM:-0500
TZOFFSETTO:-0600
TZNAME:CST
DTSTART:20171105T070000
END:STANDARD
END:VTIMEZONE
BEGIN:VEVENT
DTSTART;TZID=America/Chicago:20160617T140000
DTEND;TZID=America/Chicago:20160617T173000
DTSTAMP:20260421T051048
CREATED:20160226T232131Z
LAST-MODIFIED:20160226T232131Z
UID:601-1466172000-1466184600@columbiagirlsfastpitch.com
SUMMARY:Pitchers/Catchers/Coaches
DESCRIPTION:Pitchers/Catchers/Coaches Clinic June 17th 2016
URL:https://columbiagirlsfastpitch.com/event/pitcherscatcherscoaches/
LOCATION:Columbia State Community College\, 1165 Hampshire Pike\, Columbia\, TN\, 38401\, United States
ORGANIZER;CN="Battery Mastery":MAILTO:www.batterymastery.com
END:VEVENT
END:VCALENDAR