BEGIN:VCALENDAR
VERSION:2.0
PRODID:-//Columbia Girls Fastpitch - ECPv6.15.13.1//NONSGML v1.0//EN
CALSCALE:GREGORIAN
METHOD:PUBLISH
X-ORIGINAL-URL:https://columbiagirlsfastpitch.com
X-WR-CALDESC:Events for Columbia Girls Fastpitch
REFRESH-INTERVAL;VALUE=DURATION:PT1H
X-Robots-Tag:noindex
X-PUBLISHED-TTL:PT1H
BEGIN:VTIMEZONE
TZID:America/Chicago
BEGIN:DAYLIGHT
TZOFFSETFROM:-0600
TZOFFSETTO:-0500
TZNAME:CDT
DTSTART:20140309T080000
END:DAYLIGHT
BEGIN:STANDARD
TZOFFSETFROM:-0500
TZOFFSETTO:-0600
TZNAME:CST
DTSTART:20141102T070000
END:STANDARD
BEGIN:DAYLIGHT
TZOFFSETFROM:-0600
TZOFFSETTO:-0500
TZNAME:CDT
DTSTART:20150308T080000
END:DAYLIGHT
BEGIN:STANDARD
TZOFFSETFROM:-0500
TZOFFSETTO:-0600
TZNAME:CST
DTSTART:20151101T070000
END:STANDARD
BEGIN:DAYLIGHT
TZOFFSETFROM:-0600
TZOFFSETTO:-0500
TZNAME:CDT
DTSTART:20160313T080000
END:DAYLIGHT
BEGIN:STANDARD
TZOFFSETFROM:-0500
TZOFFSETTO:-0600
TZNAME:CST
DTSTART:20161106T070000
END:STANDARD
END:VTIMEZONE
BEGIN:VEVENT
DTSTART;TZID=America/Chicago:20150420T180000
DTEND;TZID=America/Chicago:20150627T210000
DTSTAMP:20260422T032342
CREATED:20150403T151346Z
LAST-MODIFIED:20150403T152449Z
UID:463-1429552800-1435438800@columbiagirlsfastpitch.com
SUMMARY:Games begin April 20th - Let's Play Ball!!!
DESCRIPTION:
URL:https://columbiagirlsfastpitch.com/event/games-begin-april-20th/
LOCATION:Ridley Park\, 6148 Trotwood Ave\, Columbia\, TN\, 38401\, United States
END:VEVENT
END:VCALENDAR